BEGIN:VCALENDAR
VERSION:2.0
PRODID:icalendar-ruby
CALSCALE:GREGORIAN
METHOD:PUBLISH
BEGIN:VEVENT
DTSTAMP:20260423T113229Z
UID:12-433662@shastalake.tithelysetup5.com
DTSTART:20261015T230000Z
DTEND:20261016T000000Z
CLASS:PUBLIC
CREATED:20260422T201441
DESCRIPTION:Bible Study
LAST-MODIFIED:20260422T201441
LOCATION:1509 Hardenbrook Ave\, Shasta Lake
SUMMARY:Bible Study
URL;VALUE=URI:https://shastalakecommunityumc.org/events/bible-study/2026-10
 -15
END:VEVENT
END:VCALENDAR
