BEGIN:VCALENDAR
VERSION:2.0
PRODID:icalendar-ruby
CALSCALE:GREGORIAN
METHOD:PUBLISH
BEGIN:VEVENT
DTSTAMP:20260423T144647Z
UID:12-433974@shastalake.tithelysetup5.com
DTSTART:20261029T230000Z
DTEND:20261030T000000Z
CLASS:PUBLIC
CREATED:20260423T054456
DESCRIPTION:Bible Study
LAST-MODIFIED:20260423T054456
LOCATION:1509 Hardenbrook Ave\, Shasta Lake
SUMMARY:Bible Study
URL;VALUE=URI:https://shastalakecommunityumc.org/events/bible-study/2026-10
 -29
END:VEVENT
END:VCALENDAR
