BEGIN:VCALENDAR
VERSION:2.0
PRODID:icalendar-ruby
CALSCALE:GREGORIAN
METHOD:PUBLISH
BEGIN:VEVENT
DTSTAMP:20260420T130412Z
UID:5-428343@shastalake.tithelysetup5.com
DTSTART:20261018T173000Z
DTEND:20261018T183000Z
CLASS:PUBLIC
CREATED:20260420T052541
DESCRIPTION:Sunday Worship
LAST-MODIFIED:20260420T052541
LOCATION:
SUMMARY:Sunday Worship
URL;VALUE=URI:https://shastalakecommunityumc.org/events/sunday-worship/2026
 -10-18
END:VEVENT
END:VCALENDAR
