BEGIN:VCALENDAR
VERSION:2.0
PRODID:icalendar-ruby
CALSCALE:GREGORIAN
METHOD:PUBLISH
BEGIN:VEVENT
DTSTAMP:20260420T154817Z
UID:5-428655@shastalake.tithelysetup5.com
DTSTART:20261101T183000Z
DTEND:20261101T193000Z
CLASS:PUBLIC
CREATED:20260420T075957
DESCRIPTION:Sunday Worship
LAST-MODIFIED:20260420T075957
LOCATION:
SUMMARY:Sunday Worship
URL;VALUE=URI:https://shastalakecommunityumc.org/events/sunday-worship/2026
 -11-01
END:VEVENT
END:VCALENDAR
